BEGIN:VCALENDAR
VERSION:2.0
PRODID:-//wp-events-plugin.com//5.99912//EN
TZID:Europe/Berlin
X-WR-TIMEZONE:Europe/Berlin
BEGIN:VEVENT
UID:0-315@obersontheim.albverein.eu
DTSTART;TZID=Europe/Berlin:20261122T090000
DTEND;TZID=Europe/Berlin:20261122T140000
DTSTAMP:20251122T121444Z
URL:https://obersontheim.albverein.eu/events/vormittagswanderung-obersonth
 eim-mit-essen-bei-der-ausstellung-des-kleintierzuechterverein-untersonthei
 m-in-der-schubarthalle/
SUMMARY:Vormittagswanderung Obersontheim mit Essen bei der Ausstellung des 
  Kleintierzüchterverein Untersontheim in der Schubarthalle
DESCRIPTION:\n\n\nWF Irene und Martin Gröber\n\n\n
END:VEVENT
BEGIN:VTIMEZONE
TZID:Europe/Berlin
X-LIC-LOCATION:Europe/Berlin
BEGIN:STANDARD
DTSTART:20261025T020000
TZOFFSETFROM:+0200
TZOFFSETTO:+0100
TZNAME:CET
END:STANDARD
END:VTIMEZONE
END:VCALENDAR