BEGIN:VCALENDAR
VERSION:2.0
PRODID:-//wp-events-plugin.com//5.99912//EN
TZID:Europe/Berlin
X-WR-TIMEZONE:Europe/Berlin
BEGIN:VEVENT
UID:0-314@obersontheim.albverein.eu
DTSTART;TZID=Europe/Berlin:20261107T100000
DTEND;TZID=Europe/Berlin:20261107T200000
DTSTAMP:20251123T231122Z
URL:https://obersontheim.albverein.eu/events/vormittagswanderung-mit-bus-w
 anderziel-ist-die-weintenne-in-hessental/
SUMMARY:Wanderung mit Busbenutzung - Wanderziel ist die Weintenne in Hessen
 tal
DESCRIPTION:&nbsp\;\n\n\n\nWF Irene und Martin Gröber\n\n\n
END:VEVENT
BEGIN:VTIMEZONE
TZID:Europe/Berlin
X-LIC-LOCATION:Europe/Berlin
BEGIN:STANDARD
DTSTART:20261025T020000
TZOFFSETFROM:+0200
TZOFFSETTO:+0100
TZNAME:CET
END:STANDARD
END:VTIMEZONE
END:VCALENDAR