BEGIN:VCALENDAR
VERSION:2.0
PRODID:-//wp-events-plugin.com//5.99912//EN
TZID:Europe/Berlin
X-WR-TIMEZONE:Europe/Berlin
BEGIN:VEVENT
UID:0-304@obersontheim.albverein.eu
DTSTART;TZID=Europe/Berlin:20260426T110000
DTEND;TZID=Europe/Berlin:20260426T190000
DTSTAMP:20260412T171056Z
URL:https://obersontheim.albverein.eu/events/tageswanderung-rosengarten-ke
 ltenbuckel/
SUMMARY:Tageswanderung bei Rosengarten – Keltenbuckel und mehr
DESCRIPTION:Treffpunkt zu dieser Wanderung ist wie üblich am Hospitalplatz
  – die Abfahrt ist für 11.00 h vorgesehen. Es werden 2 Wanderstrecken a
 ngeboten: eine längere mit 12 km\, die kürzere Runde beträgt 8 km. Mit 
 Fahrgemeinschaften fahren wir nach Rosengarten-Rieden. Ziel ist der Wander
 parkplatz beim Landhegeturm und Keltenbuckel.\n\nBeide Gruppen wandern zun
 ächst auf dem Blaue-Punkt-Weg\, der hier auch ein Stück des Jakobswegs S
 chwäbisch Hall-Murrhardt ist. Bei etwa 2\,5 km trennen sich die Wege.\n\n
 Nach der Mittagsrast aus dem Rucksack  geht es für die längere Tour auf
  dem „Frankenberger Fußweg“ weiter zum Golfplatz bei Frankenberg. Ans
 chließend führt uns der Albvereinsweg 🔵 steil und recht rutschig runt
 er nach Dendelbach. Wanderstöcke sind besonders auf diesem Streckenabschn
 itt zu empfehlen. Nach  dem Abstieg sind es noch ca. 2 km zum Parkplatz a
 m Keltenbuckel.\n\nDie kürzere Wegstrecke verläuft nach der Mittagspause
  auf Waldwegen mit flachen An- und Abstiegen nach Dendelbach und zurück z
 um Parkplatz.\n\nEine gemeinsame Schlusseinkehr ist im Gasthaus „Krone
 “ in Uttenhofen geplant.\n\nGerne begrüßen wir zu diesen Wanderungen a
 lle\, die gerne in der Gruppe wandern!\n\nWanderführer sind\nKati und Ger
 hard Otterbach
END:VEVENT
BEGIN:VTIMEZONE
TZID:Europe/Berlin
X-LIC-LOCATION:Europe/Berlin
BEGIN:DAYLIGHT
DTSTART:20260329T030000
TZOFFSETFROM:+0100
TZOFFSETTO:+0200
TZNAME:CEST
END:DAYLIGHT
END:VTIMEZONE
END:VCALENDAR