BEGIN:VCALENDAR
VERSION:2.0
PRODID:-//wp-events-plugin.com//5.99912//EN
TZID:Europe/Berlin
X-WR-TIMEZONE:Europe/Berlin
BEGIN:VEVENT
UID:0-309@obersontheim.albverein.eu
DTSTART;TZID=Europe/Berlin:20260726T000000
DTEND;TZID=Europe/Berlin:20260726T000000
DTSTAMP:20260423T131214Z
URL:https://obersontheim.albverein.eu/events/tageswanderung-bei-schwaebisc
 h-gmuend-kaltes-feld-franz-keller-haus/
SUMMARY:Nachmittagswanderung im Jagsttal bei Kirchberg
DESCRIPTION:\n\n\nIm Wanderplan ist an diesem Termin eine Tageswanderung au
 f dem Kalten Feld bei Schwäbisch Gmünd vorgesehen.\n\nDiese Tageswanderu
 ng entfällt! Dafür findet eine Halbtageswanderung im Jagsttal bei Kirchb
 erg statt.\n\nVersprochen - es wird eine Talwanderung mit wenigen Höhenme
 tern!\n\nWF Sigrid und Klaus Fick\n\n\n
END:VEVENT
BEGIN:VTIMEZONE
TZID:Europe/Berlin
X-LIC-LOCATION:Europe/Berlin
BEGIN:DAYLIGHT
DTSTART:20260329T030000
TZOFFSETFROM:+0100
TZOFFSETTO:+0200
TZNAME:CEST
END:DAYLIGHT
END:VTIMEZONE
END:VCALENDAR