BEGIN:VCALENDAR
VERSION:2.0
PRODID:-//wp-events-plugin.com//5.99912//EN
TZID:Europe/Berlin
X-WR-TIMEZONE:Europe/Berlin
BEGIN:VEVENT
UID:0-318@obersontheim.albverein.eu
DTSTART;TZID=Europe/Berlin:20260621T100000
DTEND;TZID=Europe/Berlin:20260621T160000
DTSTAMP:20251214T092236Z
URL:https://obersontheim.albverein.eu/events/sternwanderung-der-og-braunsb
 ach/
SUMMARY:Sternwanderung der Ortsgruppe Braunsbach
DESCRIPTION:Die Ortsgruppe Braunsbach lädt zu einer Sternwanderung ein. M
 ögliche Startpunkte sind in Enslingen\, Steinkirchen\, Jungholzhausen\, O
 rlach und Braunsbach.\n\nNäheres erfahrt Ihr aus diesem Flyer!\n\nWer an 
 der Sternwanderung teilnehmen möchte meldet sich bitte direkt bei der OG 
 Braunsbach an.
END:VEVENT
BEGIN:VTIMEZONE
TZID:Europe/Berlin
X-LIC-LOCATION:Europe/Berlin
BEGIN:DAYLIGHT
DTSTART:20260329T030000
TZOFFSETFROM:+0100
TZOFFSETTO:+0200
TZNAME:CEST
END:DAYLIGHT
END:VTIMEZONE
END:VCALENDAR