BEGIN:VCALENDAR
VERSION:2.0
PRODID:-//wp-events-plugin.com//5.99912//EN
TZID:Europe/Berlin
X-WR-TIMEZONE:Europe/Berlin
BEGIN:VEVENT
UID:0-307@obersontheim.albverein.eu
DTSTART;TZID=Europe/Berlin:20260620T170000
DTEND;TZID=Europe/Berlin:20260620T230000
DTSTAMP:20251122T120705Z
URL:https://obersontheim.albverein.eu/events/stammtisch-am-steinwasenbruen
 nele-9/
SUMMARY:Stammtisch am Steinwasenbrünnele
DESCRIPTION:
END:VEVENT
BEGIN:VTIMEZONE
TZID:Europe/Berlin
X-LIC-LOCATION:Europe/Berlin
BEGIN:DAYLIGHT
DTSTART:20260329T030000
TZOFFSETFROM:+0100
TZOFFSETTO:+0200
TZNAME:CEST
END:DAYLIGHT
END:VTIMEZONE
END:VCALENDAR