BEGIN:VCALENDAR
VERSION:2.0
PRODID:-//wp-events-plugin.com//5.99912//EN
TZID:Europe/Berlin
X-WR-TIMEZONE:Europe/Berlin
BEGIN:VEVENT
UID:0-310@obersontheim.albverein.eu
DTSTART;TZID=Europe/Berlin:20260816T100000
DTEND;TZID=Europe/Berlin:20260816T190000
DTSTAMP:20251122T120950Z
URL:https://obersontheim.albverein.eu/events/radtour-es-geht-richtung-ellw
 angen/
SUMMARY:Radtour - es geht Richtung Ellwangen!
DESCRIPTION:\n\n\ngeführt von Dieter Herrmann\n\n\n
END:VEVENT
BEGIN:VTIMEZONE
TZID:Europe/Berlin
X-LIC-LOCATION:Europe/Berlin
BEGIN:DAYLIGHT
DTSTART:20260329T030000
TZOFFSETFROM:+0100
TZOFFSETTO:+0200
TZNAME:CEST
END:DAYLIGHT
END:VTIMEZONE
END:VCALENDAR