BEGIN:VCALENDAR
VERSION:2.0
PRODID:-//wp-events-plugin.com//5.99912//EN
TZID:Europe/Berlin
X-WR-TIMEZONE:Europe/Berlin
BEGIN:VEVENT
UID:0-306@obersontheim.albverein.eu
DTSTART;TZID=Europe/Berlin:20260531T133000
DTEND;TZID=Europe/Berlin:20260531T190000
DTSTAMP:20251122T120624Z
URL:https://obersontheim.albverein.eu/events/nachmittagswanderung-kocherta
 l-bei-uttenhofen/
SUMMARY:Nachmittagswanderung - Kochertal bei Uttenhofen
DESCRIPTION:\n\n\nWF Sigrid und Klaus Fick\n\n\n
END:VEVENT
BEGIN:VTIMEZONE
TZID:Europe/Berlin
X-LIC-LOCATION:Europe/Berlin
BEGIN:DAYLIGHT
DTSTART:20260329T030000
TZOFFSETFROM:+0100
TZOFFSETTO:+0200
TZNAME:CEST
END:DAYLIGHT
END:VTIMEZONE
END:VCALENDAR