BEGIN:VCALENDAR
VERSION:2.0
PRODID:-//wp-events-plugin.com//5.99912//EN
TZID:Europe/Berlin
X-WR-TIMEZONE:Europe/Berlin
BEGIN:VEVENT
UID:0-316@obersontheim.albverein.eu
DTSTART;TZID=Europe/Berlin:20261211T133000
DTEND;TZID=Europe/Berlin:20261211T190000
DTSTAMP:20251215T152431Z
URL:https://obersontheim.albverein.eu/events/adventswanderung-bei-markerts
 hofen-mit-grillwurst-und-stockbrot/
SUMMARY:Adventswanderung bei Markertshofen mit Grillwurst und Stockbrot
DESCRIPTION:\n\n\n\n\n&nbsp\;\n\nWF Sigrid und Klaus Fick\n\nAls Gedankenst
 ütze: 2 kg Mehl für Stockbrot bei 20 Personen!\n\n\n
END:VEVENT
BEGIN:VTIMEZONE
TZID:Europe/Berlin
X-LIC-LOCATION:Europe/Berlin
BEGIN:STANDARD
DTSTART:20261025T020000
TZOFFSETFROM:+0200
TZOFFSETTO:+0100
TZNAME:CET
END:STANDARD
END:VTIMEZONE
END:VCALENDAR