BEGIN:VCALENDAR
VERSION:2.0
PRODID:-//wp-events-plugin.com//5.99912//EN
TZID:Europe/Berlin
X-WR-TIMEZONE:Europe/Berlin
BEGIN:VEVENT
UID:0-305@obersontheim.albverein.eu
DTSTART;TZID=Europe/Berlin:20260514T000000
DTEND;TZID=Europe/Berlin:20260514T000000
DTSTAMP:20260424T084910Z
URL:https://obersontheim.albverein.eu/events/51-hahnenbergfest/
SUMMARY:51. Hahnenbergfest am Vatertag zum 75-jährigem Jubiläum der Ortsg
 ruppe Obersontheim
DESCRIPTION:Machen Sie unser besonderes Fest zum Ziel Ihrer Vatertagswander
 ung!\n\nZu unserem nun schon traditionellen Hahnenbergfest bei der Karl-Eu
 gen-Hütte im Hahnenbergwald laden wir Sie ganz herzlich ein.\n\nMit dem d
 iesjährigen Hahnenbergfest feiern wir auch das 75-jährige Bestehen unser
 er Ortsgruppe Obersontheim.\n\nWie immer beginnt unser Hahnenbergfest mit 
 einem Gottesdienst im Grünen\, auch in diesem Jahr wieder begleitet vom P
 osaunenchor Obersontheim.\n\nAnschließend besteht Gelegenheit zum Mittage
 ssen mit frischem Fleischkäse mit Kartoffelsalat oder gegrillte Rote oder
  Bratwürste.\n\nSelbstverständlich bieten wir auch wieder Kaffee und lec
 keren Kuchen an.\n\nVerbinden Sie doch einfach Ihre Vatertagswanderung ode
 r Radtour mit einem Besuch unseres Waldfestes.\n\nWir freuen uns auf Sie!\
 n\nErnst Hofmann\nVorstand der Ortsgruppe Obersontheim\n\n&nbsp\;\n\nInfor
 mationen zur Geschichte des Hahnenbergfests!
END:VEVENT
BEGIN:VTIMEZONE
TZID:Europe/Berlin
X-LIC-LOCATION:Europe/Berlin
BEGIN:DAYLIGHT
DTSTART:20260329T030000
TZOFFSETFROM:+0100
TZOFFSETTO:+0200
TZNAME:CEST
END:DAYLIGHT
END:VTIMEZONE
END:VCALENDAR