BEGIN:VCALENDAR
VERSION:2.0
PRODID:-//wp-events-plugin.com//5.99912//EN
TZID:Europe/Berlin
X-WR-TIMEZONE:Europe/Berlin
BEGIN:VEVENT
UID:0-312@obersontheim.albverein.eu
DTSTART;TZID=Europe/Berlin;VALUE=DATE:20260924
DTEND;TZID=Europe/Berlin;VALUE=DATE:20260928
DTSTAMP:20260125T175958Z
URL:https://obersontheim.albverein.eu/events/4-tages-wanderwochenende-in-d
 er-pfalz-dahner-felsenland/
SUMMARY:4-Tages-Wanderwochenende im Pfälzerwald - Dahner Felsenland
DESCRIPTION:Wir besuchen den südlichen Pfälzerwald mit dem Dahner Felsenl
 and!\n\nHier erfahrt Ihr näheres zu dieser Mehrtageswanderung!\n\nAnmeldu
 ngen bitte bis 10.03.2026 beim Wanderführer - bis dahin sind die Zimmer f
 ür uns vorreserviert.\n\nWF Sigrid und Klaus Fick\n\nIn der Ausschreibung
  wird auf die gestaffelten Stornokosten bei Reiserücktritten hingewiesen.
  Im Detail sehen diese wie folgt aus:\n\nbis 10.07.2026 - keine Kosten\nbi
 s 45. Tag vor Anreise 5 % des Reisepreises\nbis 31. Tag vor Anreise 10 % d
 es Reisepreises\nbis 22. Tag vor Anreise 20 % des Reisepreises\nbis 14. Ta
 g vor Anreise 40 % des Reisepreises\nbis 7. Tag vor Anreise 70 % des Reise
 preises\nbis 3. Tag vor Anreise 80 % des Reisepreises\n\n \n\n\n\n&nbsp\;
 \n\n&nbsp\;\n\n&nbsp\;\n\n\n\n\n\n\n&nbsp\;
END:VEVENT
BEGIN:VTIMEZONE
TZID:Europe/Berlin
X-LIC-LOCATION:Europe/Berlin
BEGIN:DAYLIGHT
DTSTART:20260329T030000
TZOFFSETFROM:+0100
TZOFFSETTO:+0200
TZNAME:CEST
END:DAYLIGHT
END:VTIMEZONE
END:VCALENDAR